BEGIN:VCALENDAR
VERSION:2.0
PRODID:-//Realschule Rheinmünster - ECPv6.15.11//NONSGML v1.0//EN
CALSCALE:GREGORIAN
METHOD:PUBLISH
X-ORIGINAL-URL:https://www.realschule-rheinmuenster.de
X-WR-CALDESC:Veranstaltungen für Realschule Rheinmünster
REFRESH-INTERVAL;VALUE=DURATION:PT1H
X-Robots-Tag:noindex
X-PUBLISHED-TTL:PT1H
BEGIN:VTIMEZONE
TZID:UTC
BEGIN:STANDARD
TZOFFSETFROM:+0000
TZOFFSETTO:+0000
TZNAME:UTC
DTSTART:20230101T000000
END:STANDARD
END:VTIMEZONE
BEGIN:VEVENT
DTSTART;TZID=UTC:20241202T080000
DTEND;TZID=UTC:20241202T123000
DTSTAMP:20260424T213641
CREATED:20240910T131734Z
LAST-MODIFIED:20240910T131734Z
UID:7094-1733126400-1733142600@www.realschule-rheinmuenster.de
SUMMARY:One for Good: 1 Euro für einen guten Zweck
DESCRIPTION:
URL:https://www.realschule-rheinmuenster.de/termin/one-for-good-1-euro-fuer-einen-guten-zweck/
END:VEVENT
BEGIN:VEVENT
DTSTART;TZID=UTC:20241211T073000
DTEND;TZID=UTC:20241211T123000
DTSTAMP:20260424T213641
CREATED:20240910T131854Z
LAST-MODIFIED:20240910T131854Z
UID:7096-1733902200-1733920200@www.realschule-rheinmuenster.de
SUMMARY:Bewertung der Adventsfenster durch die SMV
DESCRIPTION:
URL:https://www.realschule-rheinmuenster.de/termin/bewertung-der-adventsfenster-durch-die-smv/
END:VEVENT
BEGIN:VEVENT
DTSTART;TZID=UTC:20241216T094500
DTEND;TZID=UTC:20241216T101500
DTSTAMP:20260424T213641
CREATED:20240910T132021Z
LAST-MODIFIED:20240910T132021Z
UID:7098-1734342300-1734344100@www.realschule-rheinmuenster.de
SUMMARY:Preisverleihung Gewinner Adventsfensterwettbewerb
DESCRIPTION:
URL:https://www.realschule-rheinmuenster.de/termin/preisverleihung-gewinner-adventsfensterwettbewerb-2/
END:VEVENT
BEGIN:VEVENT
DTSTART;TZID=UTC:20241217T073000
DTEND;TZID=UTC:20241217T160000
DTSTAMP:20260424T213641
CREATED:20240918T093859Z
LAST-MODIFIED:20240918T093859Z
UID:7194-1734420600-1734451200@www.realschule-rheinmuenster.de
SUMMARY:Sprechstunde Frau Rieger Berufsberaterin Arbeitsagentur Rastatt
DESCRIPTION:Bitte Termin vereinbaren.
URL:https://www.realschule-rheinmuenster.de/termin/sprechstunde-frau-rieger-berufsberaterin-arbeitsagentur-rastatt-3/
END:VEVENT
BEGIN:VEVENT
DTSTART;TZID=UTC:20241220T080000
DTEND;TZID=UTC:20241220T114000
DTSTAMP:20260424T213641
CREATED:20240906T102022Z
LAST-MODIFIED:20240906T102022Z
UID:7051-1734681600-1734694800@www.realschule-rheinmuenster.de
SUMMARY:Weihnachtsfeier
DESCRIPTION:
URL:https://www.realschule-rheinmuenster.de/termin/weihnachtsfeier/
END:VEVENT
BEGIN:VEVENT
DTSTART;VALUE=DATE:20241223
DTEND;VALUE=DATE:20250107
DTSTAMP:20260424T213641
CREATED:20240906T102106Z
LAST-MODIFIED:20240906T102106Z
UID:7053-1734912000-1736207999@www.realschule-rheinmuenster.de
SUMMARY:Weihnachtsferien
DESCRIPTION:
URL:https://www.realschule-rheinmuenster.de/termin/weihnachtsferien-4/
END:VEVENT
END:VCALENDAR