BEGIN:VCALENDAR
VERSION:2.0
PRODID:-//Realschule Rheinmünster - ECPv6.15.11//NONSGML v1.0//EN
CALSCALE:GREGORIAN
METHOD:PUBLISH
X-WR-CALNAME:Realschule Rheinmünster
X-ORIGINAL-URL:https://www.realschule-rheinmuenster.de
X-WR-CALDESC:Veranstaltungen für Realschule Rheinmünster
REFRESH-INTERVAL;VALUE=DURATION:PT1H
X-Robots-Tag:noindex
X-PUBLISHED-TTL:PT1H
BEGIN:VTIMEZONE
TZID:UTC
BEGIN:STANDARD
TZOFFSETFROM:+0000
TZOFFSETTO:+0000
TZNAME:UTC
DTSTART:20250101T000000
END:STANDARD
END:VTIMEZONE
BEGIN:VEVENT
DTSTART;TZID=UTC:20260422T080000
DTEND;TZID=UTC:20260424T170000
DTSTAMP:20260423T100827
CREATED:20250904T065012Z
LAST-MODIFIED:20250904T065012Z
UID:8577-1776844800-1777050000@www.realschule-rheinmuenster.de
SUMMARY:Projekttage
DESCRIPTION:
URL:https://www.realschule-rheinmuenster.de/termin/projekttage-3/
END:VEVENT
END:VCALENDAR