BEGIN:VCALENDAR
VERSION:2.0
PRODID:-//Realschule Rheinmünster - ECPv6.15.11//NONSGML v1.0//EN
CALSCALE:GREGORIAN
METHOD:PUBLISH
X-ORIGINAL-URL:https://www.realschule-rheinmuenster.de
X-WR-CALDESC:Veranstaltungen für Realschule Rheinmünster
REFRESH-INTERVAL;VALUE=DURATION:PT1H
X-Robots-Tag:noindex
X-PUBLISHED-TTL:PT1H
BEGIN:VTIMEZONE
TZID:UTC
BEGIN:STANDARD
TZOFFSETFROM:+0000
TZOFFSETTO:+0000
TZNAME:UTC
DTSTART:20240101T000000
END:STANDARD
END:VTIMEZONE
BEGIN:VEVENT
DTSTART;TZID=UTC:20250214T160000
DTEND;TZID=UTC:20250214T180000
DTSTAMP:20260424T200441
CREATED:20240918T062227Z
LAST-MODIFIED:20240918T062227Z
UID:7126-1739548800-1739556000@www.realschule-rheinmuenster.de
SUMMARY:Informationsabend für Schülerinnen und Schüler\, Eltern  der Grundschulenlassen 4
DESCRIPTION:Tag der offenen Tür\, Besichtigung und Informationen für Schülerinnen und Schüler und deren Eltern der Grundschulen.
URL:https://www.realschule-rheinmuenster.de/termin/informationsabend-fuer-schuelerinnen-und-schueler-eltern-der-grundschulenlassen-4/
END:VEVENT
END:VCALENDAR