BEGIN:VCALENDAR
VERSION:2.0
PRODID:-//Realschule Rheinmünster - ECPv6.15.11//NONSGML v1.0//EN
CALSCALE:GREGORIAN
METHOD:PUBLISH
X-ORIGINAL-URL:https://www.realschule-rheinmuenster.de
X-WR-CALDESC:Veranstaltungen für Realschule Rheinmünster
REFRESH-INTERVAL;VALUE=DURATION:PT1H
X-Robots-Tag:noindex
X-PUBLISHED-TTL:PT1H
BEGIN:VTIMEZONE
TZID:UTC
BEGIN:STANDARD
TZOFFSETFROM:+0000
TZOFFSETTO:+0000
TZNAME:UTC
DTSTART:20230101T000000
END:STANDARD
END:VTIMEZONE
BEGIN:VEVENT
DTSTART;TZID=UTC:20241211T073000
DTEND;TZID=UTC:20241211T123000
DTSTAMP:20260424T225529
CREATED:20240910T131854Z
LAST-MODIFIED:20240910T131854Z
UID:7096-1733902200-1733920200@www.realschule-rheinmuenster.de
SUMMARY:Bewertung der Adventsfenster durch die SMV
DESCRIPTION:
URL:https://www.realschule-rheinmuenster.de/termin/bewertung-der-adventsfenster-durch-die-smv/
END:VEVENT
END:VCALENDAR