BEGIN:VCALENDAR
VERSION:2.0
PRODID:-//Realschule Rheinmünster - ECPv6.15.11//NONSGML v1.0//EN
CALSCALE:GREGORIAN
METHOD:PUBLISH
X-ORIGINAL-URL:https://www.realschule-rheinmuenster.de
X-WR-CALDESC:Veranstaltungen für Realschule Rheinmünster
REFRESH-INTERVAL;VALUE=DURATION:PT1H
X-Robots-Tag:noindex
X-PUBLISHED-TTL:PT1H
BEGIN:VTIMEZONE
TZID:UTC
BEGIN:STANDARD
TZOFFSETFROM:+0000
TZOFFSETTO:+0000
TZNAME:UTC
DTSTART:20230101T000000
END:STANDARD
END:VTIMEZONE
BEGIN:VEVENT
DTSTART;TZID=UTC:20241014T100000
DTEND;TZID=UTC:20241014T114000
DTSTAMP:20260425T013835
CREATED:20240906T100435Z
LAST-MODIFIED:20240906T100435Z
UID:7032-1728900000-1728906000@www.realschule-rheinmuenster.de
SUMMARY:Theater Mobbing Klassen 6/7
DESCRIPTION:
URL:https://www.realschule-rheinmuenster.de/termin/theater-mobbing-klassen-6-7/
END:VEVENT
BEGIN:VEVENT
DTSTART;TZID=UTC:20241014T181500
DTEND;TZID=UTC:20241014T203000
DTSTAMP:20260425T013835
CREATED:20240906T100300Z
LAST-MODIFIED:20240918T055431Z
UID:7030-1728929700-1728937800@www.realschule-rheinmuenster.de
SUMMARY:Elternabend Klassen 8/9/10  19 Uhr und  Infos zur Englandfahrt Klassen 9 18:15 Uhr
DESCRIPTION:Info Englandfahrer Klassen 9 im Projektzimmer Gebäude D 18:15 Uhr \nBeginn Elternabend Klassen 8/ 9/ 10 19:00 Uhr
URL:https://www.realschule-rheinmuenster.de/termin/elternabend-klassen-8-9-10/
END:VEVENT
END:VCALENDAR