BEGIN:VCALENDAR
VERSION:2.0
PRODID:-//Realschule Rheinmünster - ECPv6.15.11//NONSGML v1.0//EN
CALSCALE:GREGORIAN
METHOD:PUBLISH
X-WR-CALNAME:Realschule Rheinmünster
X-ORIGINAL-URL:https://www.realschule-rheinmuenster.de
X-WR-CALDESC:Veranstaltungen für Realschule Rheinmünster
REFRESH-INTERVAL;VALUE=DURATION:PT1H
X-Robots-Tag:noindex
X-PUBLISHED-TTL:PT1H
BEGIN:VTIMEZONE
TZID:UTC
BEGIN:STANDARD
TZOFFSETFROM:+0000
TZOFFSETTO:+0000
TZNAME:UTC
DTSTART:20230101T000000
END:STANDARD
END:VTIMEZONE
BEGIN:VEVENT
DTSTART;TZID=UTC:20241010T190000
DTEND;TZID=UTC:20241010T203000
DTSTAMP:20260425T013555
CREATED:20240906T100152Z
LAST-MODIFIED:20240910T130527Z
UID:7028-1728586800-1728592200@www.realschule-rheinmuenster.de
SUMMARY:Elternabend Klassen 5/6/7
DESCRIPTION:
URL:https://www.realschule-rheinmuenster.de/termin/elternabend-klassen-5-6-7/
END:VEVENT
END:VCALENDAR