BEGIN:VCALENDAR
VERSION:2.0
PRODID:-//Realschule Rheinmünster - ECPv6.15.11//NONSGML v1.0//EN
CALSCALE:GREGORIAN
METHOD:PUBLISH
X-ORIGINAL-URL:https://www.realschule-rheinmuenster.de
X-WR-CALDESC:Veranstaltungen für Realschule Rheinmünster
REFRESH-INTERVAL;VALUE=DURATION:PT1H
X-Robots-Tag:noindex
X-PUBLISHED-TTL:PT1H
BEGIN:VTIMEZONE
TZID:UTC
BEGIN:STANDARD
TZOFFSETFROM:+0000
TZOFFSETTO:+0000
TZNAME:UTC
DTSTART:20230101T000000
END:STANDARD
END:VTIMEZONE
BEGIN:VEVENT
DTSTART;TZID=UTC:20241008T073000
DTEND;TZID=UTC:20241008T160000
DTSTAMP:20260425T013737
CREATED:20240918T093707Z
LAST-MODIFIED:20240918T093707Z
UID:7190-1728372600-1728403200@www.realschule-rheinmuenster.de
SUMMARY:Sprechstunde Frau Rieger Berufsberaterin Arbeitsagentur Rastatt
DESCRIPTION:Bitte Termin vereinbaren.
URL:https://www.realschule-rheinmuenster.de/termin/sprechstunde-frau-rieger-berufsberaterin-arbeitsagentur-rastatt/
END:VEVENT
END:VCALENDAR