BEGIN:VCALENDAR
VERSION:2.0
PRODID:-//Realschule Rheinmünster - ECPv6.15.11//NONSGML v1.0//EN
CALSCALE:GREGORIAN
METHOD:PUBLISH
X-ORIGINAL-URL:https://www.realschule-rheinmuenster.de
X-WR-CALDESC:Veranstaltungen für Realschule Rheinmünster
REFRESH-INTERVAL;VALUE=DURATION:PT1H
X-Robots-Tag:noindex
X-PUBLISHED-TTL:PT1H
BEGIN:VTIMEZONE
TZID:UTC
BEGIN:STANDARD
TZOFFSETFROM:+0000
TZOFFSETTO:+0000
TZNAME:UTC
DTSTART:20230101T000000
END:STANDARD
END:VTIMEZONE
BEGIN:VEVENT
DTSTART;TZID=UTC:20240924T080000
DTEND;TZID=UTC:20240924T170000
DTSTAMP:20260425T030135
CREATED:20240906T094915Z
LAST-MODIFIED:20240909T084055Z
UID:7018-1727164800-1727197200@www.realschule-rheinmuenster.de
SUMMARY:Erlebnispädagogischer Ausflug Klasse 5b
DESCRIPTION:
URL:https://www.realschule-rheinmuenster.de/termin/erlebnispaedagogischer-ausflug-klasse-5b-2/
END:VEVENT
END:VCALENDAR