BEGIN:VCALENDAR
VERSION:2.0
PRODID:-//Realschule Rheinmünster - ECPv6.15.11//NONSGML v1.0//EN
CALSCALE:GREGORIAN
METHOD:PUBLISH
X-ORIGINAL-URL:https://www.realschule-rheinmuenster.de
X-WR-CALDESC:Veranstaltungen für Realschule Rheinmünster
REFRESH-INTERVAL;VALUE=DURATION:PT1H
X-Robots-Tag:noindex
X-PUBLISHED-TTL:PT1H
BEGIN:VTIMEZONE
TZID:UTC
BEGIN:STANDARD
TZOFFSETFROM:+0000
TZOFFSETTO:+0000
TZNAME:UTC
DTSTART:20230101T000000
END:STANDARD
END:VTIMEZONE
BEGIN:VEVENT
DTSTART;TZID=UTC:20240909T072000
DTEND;TZID=UTC:20240909T123000
DTSTAMP:20260425T030122
CREATED:20240906T094625Z
LAST-MODIFIED:20240906T094937Z
UID:7014-1725866400-1725885000@www.realschule-rheinmuenster.de
SUMMARY:Erster Schultag
DESCRIPTION:Unterrichtsbeginn Klassen 6-10 07:20 Uhr &#8211; 11:40 Uhr \nEinschulung Klassen 5\, 09:00 Uhr Feier mit Eltern\, ca. 30 Min. Unterrichtsende 12:30 Uhr
URL:https://www.realschule-rheinmuenster.de/termin/erster-schultag/
END:VEVENT
END:VCALENDAR